BEGIN:VCALENDAR
VERSION:2.0
PRODID:-//gzd-online//gzd-online.de//DE
CALSCALE:GREGORIAN
BEGIN:VEVENT
DTSTART:20260608T173000
DTEND:20260608T193000
LOCATION:42929 Wermelskirchen Auf der Huhfuhr 10
DTSTAMP:20260421T052049
SUMMARY:Reparaturcafé Dabringhausen am 8. Juni ab 17:30 Uhr
URL;VALUE=URI:https://gzd-online.org/termine/reparaturcafe-dabringhausen-2/
DESCRIPTION:
UID:20260421T052049-20260608T173000-20260608T193000
END:VEVENT
END:VCALENDAR